BEGIN:VCALENDAR
VERSION:2.0
PRODID:-//Oakville Girls Softball Association (OGSA) - ECPv6.15.13.1//NONSGML v1.0//EN
CALSCALE:GREGORIAN
METHOD:PUBLISH
X-WR-CALNAME:Oakville Girls Softball Association (OGSA)
X-ORIGINAL-URL:https://www.oakvilleangels.com
X-WR-CALDESC:Events for Oakville Girls Softball Association (OGSA)
REFRESH-INTERVAL;VALUE=DURATION:PT1H
X-Robots-Tag:noindex
X-PUBLISHED-TTL:PT1H
BEGIN:VTIMEZONE
TZID:America/Toronto
BEGIN:DAYLIGHT
TZOFFSETFROM:-0500
TZOFFSETTO:-0400
TZNAME:EDT
DTSTART:20240310T070000
END:DAYLIGHT
BEGIN:STANDARD
TZOFFSETFROM:-0400
TZOFFSETTO:-0500
TZNAME:EST
DTSTART:20241103T060000
END:STANDARD
BEGIN:DAYLIGHT
TZOFFSETFROM:-0500
TZOFFSETTO:-0400
TZNAME:EDT
DTSTART:20250309T070000
END:DAYLIGHT
BEGIN:STANDARD
TZOFFSETFROM:-0400
TZOFFSETTO:-0500
TZNAME:EST
DTSTART:20251102T060000
END:STANDARD
BEGIN:DAYLIGHT
TZOFFSETFROM:-0500
TZOFFSETTO:-0400
TZNAME:EDT
DTSTART:20260308T070000
END:DAYLIGHT
BEGIN:STANDARD
TZOFFSETFROM:-0400
TZOFFSETTO:-0500
TZNAME:EST
DTSTART:20261101T060000
END:STANDARD
END:VTIMEZONE
BEGIN:VEVENT
DTSTART;TZID=America/Toronto:20251220T180000
DTEND;TZID=America/Toronto:20251220T210000
DTSTAMP:20260424T181646
CREATED:20251016T004515Z
LAST-MODIFIED:20251016T004515Z
UID:3793-1766253600-1766264400@www.oakvilleangels.com
SUMMARY:OGSA Winter Clinic
DESCRIPTION:Pre-registered winter clinics\, winter clinics are FULL for the 2025/2026 off season.
URL:https://www.oakvilleangels.com/event/ogsa-winter-clinic-8/
CATEGORIES:Indoor Development Training
ORGANIZER;CN="Oakville Girls Softball Association (OGSA)":MAILTO:development@oakvilleangels.com
END:VEVENT
BEGIN:VEVENT
DTSTART;TZID=America/Toronto:20251213T180000
DTEND;TZID=America/Toronto:20251213T210000
DTSTAMP:20260424T181646
CREATED:20251016T004435Z
LAST-MODIFIED:20251016T004435Z
UID:3791-1765648800-1765659600@www.oakvilleangels.com
SUMMARY:OGSA Winter Clinic
DESCRIPTION:Pre-registered winter clinics\, winter clinics are FULL for the 2025/2026 off season.
URL:https://www.oakvilleangels.com/event/ogsa-winter-clinic-7/
CATEGORIES:Indoor Development Training
ORGANIZER;CN="Oakville Girls Softball Association (OGSA)":MAILTO:development@oakvilleangels.com
END:VEVENT
BEGIN:VEVENT
DTSTART;TZID=America/Toronto:20251206T180000
DTEND;TZID=America/Toronto:20251206T210000
DTSTAMP:20260424T181646
CREATED:20251016T004402Z
LAST-MODIFIED:20251016T004402Z
UID:3789-1765044000-1765054800@www.oakvilleangels.com
SUMMARY:OGSA Winter Clinic
DESCRIPTION:Pre-registered winter clinics\, winter clinics are FULL for the 2025/2026 off season.
URL:https://www.oakvilleangels.com/event/ogsa-winter-clinic-6/
CATEGORIES:Indoor Development Training
ORGANIZER;CN="Oakville Girls Softball Association (OGSA)":MAILTO:development@oakvilleangels.com
END:VEVENT
BEGIN:VEVENT
DTSTART;TZID=America/Toronto:20251129T180000
DTEND;TZID=America/Toronto:20251129T210000
DTSTAMP:20260424T181646
CREATED:20251016T004326Z
LAST-MODIFIED:20251016T004326Z
UID:3787-1764439200-1764450000@www.oakvilleangels.com
SUMMARY:OGSA Winter Clinic
DESCRIPTION:Pre-registered winter clinics\, winter clinics are FULL for the 2025/2026 off season.
URL:https://www.oakvilleangels.com/event/ogsa-winter-clinic-5/
CATEGORIES:Indoor Development Training
ORGANIZER;CN="Oakville Girls Softball Association (OGSA)":MAILTO:development@oakvilleangels.com
END:VEVENT
BEGIN:VEVENT
DTSTART;TZID=America/Toronto:20251122T180000
DTEND;TZID=America/Toronto:20251122T210000
DTSTAMP:20260424T181646
CREATED:20251016T004209Z
LAST-MODIFIED:20251016T004209Z
UID:3784-1763834400-1763845200@www.oakvilleangels.com
SUMMARY:OGSA Winter Clinic
DESCRIPTION:Pre-registered winter clinics\, winter clinics are FULL for the 2025/2026 off season.
URL:https://www.oakvilleangels.com/event/ogsa-winter-clinic-4/
CATEGORIES:Indoor Development Training
ORGANIZER;CN="Oakville Girls Softball Association (OGSA)":MAILTO:development@oakvilleangels.com
END:VEVENT
BEGIN:VEVENT
DTSTART;TZID=America/Toronto:20251115T180000
DTEND;TZID=America/Toronto:20251115T210000
DTSTAMP:20260424T181646
CREATED:20251016T004133Z
LAST-MODIFIED:20251016T004133Z
UID:3782-1763229600-1763240400@www.oakvilleangels.com
SUMMARY:OGSA Winter Clinic
DESCRIPTION:Pre-registered winter clinics\, winter clinics are FULL for the 2025/2026 off season.
URL:https://www.oakvilleangels.com/event/ogsa-winter-clinic-3/
CATEGORIES:Indoor Development Training
ORGANIZER;CN="Oakville Girls Softball Association (OGSA)":MAILTO:development@oakvilleangels.com
END:VEVENT
BEGIN:VEVENT
DTSTART;TZID=America/Toronto:20251108T180000
DTEND;TZID=America/Toronto:20251108T210000
DTSTAMP:20260424T181646
CREATED:20251016T004054Z
LAST-MODIFIED:20251016T004054Z
UID:3780-1762624800-1762635600@www.oakvilleangels.com
SUMMARY:OGSA Winter Clinic
DESCRIPTION:Pre-registered winter clinics\, winter clinics are FULL for the 2025/2026 off season.
URL:https://www.oakvilleangels.com/event/ogsa-winter-clinic-2/
CATEGORIES:Indoor Development Training
ORGANIZER;CN="Oakville Girls Softball Association (OGSA)":MAILTO:development@oakvilleangels.com
END:VEVENT
BEGIN:VEVENT
DTSTART;TZID=America/Toronto:20251101T180000
DTEND;TZID=America/Toronto:20251101T210000
DTSTAMP:20260424T181646
CREATED:20251016T003933Z
LAST-MODIFIED:20251016T004228Z
UID:3777-1762020000-1762030800@www.oakvilleangels.com
SUMMARY:OGSA Winter Clinic
DESCRIPTION:Pre-registered winter clinics\, winter clinics are FULL for the 2025/2026 off season.
URL:https://www.oakvilleangels.com/event/ogsa-winter-clinic/
CATEGORIES:Indoor Development Training
ORGANIZER;CN="Oakville Girls Softball Association (OGSA)":MAILTO:development@oakvilleangels.com
END:VEVENT
END:VCALENDAR